BEGIN:VCALENDAR
VERSION:2.0
PRODID:-//SwissMX//Calendrier//FR
CALSCALE:GREGORIAN
METHOD:PUBLISH
BEGIN:VEVENT
UID:race-119@swissmx.app
DTSTAMP:20260423T115130Z
SUMMARY:Roggenburg (BL)
DTSTART;VALUE=DATE:20250831
DTEND;VALUE=DATE:20250901
LOCATION:Roggenburg
DESCRIPTION:Championship: Swiss Moto\\nPage: https://swissmx.app/en/calendar/31-08-2025-swiss-moto-roggenburg-bl
URL:https://swissmx.app/en/calendar/31-08-2025-swiss-moto-roggenburg-bl
STATUS:CONFIRMED
END:VEVENT
END:VCALENDAR
