BEGIN:VCALENDAR
VERSION:2.0
PRODID:-//SwissMX//Calendrier//FR
CALSCALE:GREGORIAN
METHOD:PUBLISH
BEGIN:VEVENT
UID:race-80@swissmx.app
DTSTAMP:20260421T111232Z
SUMMARY:Cournillens
DTSTART;VALUE=DATE:20250830
DTEND;VALUE=DATE:20250831
LOCATION:Cournillens
DESCRIPTION:Championship: Angora\\nPage: https://swissmx.app/en/calendar/30-08-2025-angora-cournillens
URL:https://swissmx.app/en/calendar/30-08-2025-angora-cournillens
STATUS:CONFIRMED
END:VEVENT
END:VCALENDAR
