BEGIN:VCALENDAR
VERSION:2.0
PRODID:-//SwissMX//Calendrier//FR
CALSCALE:GREGORIAN
METHOD:PUBLISH
BEGIN:VEVENT
UID:race-96@swissmx.app
DTSTAMP:20260420T224501Z
SUMMARY:Schwarzenburg
DTSTART;VALUE=DATE:20251018
DTEND;VALUE=DATE:20251019
LOCATION:Schwarzenburg
DESCRIPTION:Championship: AFM\\nPage: https://swissmx.app/en/calendar/18-10-2025-afm-schwarzenburg
URL:https://swissmx.app/en/calendar/18-10-2025-afm-schwarzenburg
STATUS:CONFIRMED
END:VEVENT
END:VCALENDAR
