BEGIN:VCALENDAR
VERSION:2.0
PRODID:-//SwissMX//Calendar//1.0
CALSCALE:GREGORIAN
METHOD:PUBLISH
BEGIN:VEVENT
UID:race-166@swissmx.app
DTSTAMP:20260424T163953Z
SUMMARY:Schlatt
DTSTART;VALUE=DATE:20260503
DTEND;VALUE=DATE:20260504
LOCATION:schlatt
DESCRIPTION:Meisterschaft: Swiss Moto\\nSeite: https://swissmx.app/de/calendar/03-05-2026-swiss-moto-schlatt
URL:https://swissmx.app/de/calendar/03-05-2026-swiss-moto-schlatt
STATUS:CONFIRMED
END:VEVENT
BEGIN:VEVENT
UID:race-167@swissmx.app
DTSTAMP:20260424T163953Z
SUMMARY:Oberriet
DTSTART;VALUE=DATE:20260509
DTEND;VALUE=DATE:20260510
LOCATION:oberrietsg
DESCRIPTION:Meisterschaft: Swiss Moto\\nSeite: https://swissmx.app/de/calendar/09-05-2026-swiss-moto-oberriet
URL:https://swissmx.app/de/calendar/09-05-2026-swiss-moto-oberriet
STATUS:CONFIRMED
END:VEVENT
BEGIN:VEVENT
UID:race-168@swissmx.app
DTSTAMP:20260424T163953Z
SUMMARY:Oberriet
DTSTART;VALUE=DATE:20260510
DTEND;VALUE=DATE:20260511
LOCATION:oberrietsg
DESCRIPTION:Meisterschaft: Swiss Moto\\nSeite: https://swissmx.app/de/calendar/10-05-2026-swiss-moto-oberriet
URL:https://swissmx.app/de/calendar/10-05-2026-swiss-moto-oberriet
STATUS:CONFIRMED
END:VEVENT
BEGIN:VEVENT
UID:race-145@swissmx.app
DTSTAMP:20260424T163953Z
SUMMARY:Muri (AG)
DTSTART;VALUE=DATE:20260525
DTEND;VALUE=DATE:20260526
LOCATION:muri
DESCRIPTION:Meisterschaft: Swiss Moto\\nSeite: https://swissmx.app/de/calendar/25-05-2026-swiss-moto-muri-ag
URL:https://swissmx.app/de/calendar/25-05-2026-swiss-moto-muri-ag
STATUS:CONFIRMED
END:VEVENT
BEGIN:VEVENT
UID:race-179@swissmx.app
DTSTAMP:20260424T163953Z
SUMMARY:Sézegnin
DTSTART;VALUE=DATE:20260530
DTEND;VALUE=DATE:20260531
LOCATION:sezegnin
DESCRIPTION:Meisterschaft: Swiss Moto\\nSeite: https://swissmx.app/de/calendar/30-05-2026-swiss-moto-sezegnin
URL:https://swissmx.app/de/calendar/30-05-2026-swiss-moto-sezegnin
STATUS:CONFIRMED
END:VEVENT
BEGIN:VEVENT
UID:race-180@swissmx.app
DTSTAMP:20260424T163953Z
SUMMARY:Sézegnin
DTSTART;VALUE=DATE:20260531
DTEND;VALUE=DATE:20260601
LOCATION:sezegnin
DESCRIPTION:Meisterschaft: Swiss Moto\\nSeite: https://swissmx.app/de/calendar/31-05-2026-swiss-moto-sezegnin
URL:https://swissmx.app/de/calendar/31-05-2026-swiss-moto-sezegnin
STATUS:CONFIRMED
END:VEVENT
BEGIN:VEVENT
UID:race-195@swissmx.app
DTSTAMP:20260424T163953Z
SUMMARY:Cossonay
DTSTART;VALUE=DATE:20260606
DTEND;VALUE=DATE:20260607
LOCATION:lachauxcossonay
DESCRIPTION:Meisterschaft: Swiss Moto\\nSeite: https://swissmx.app/de/calendar/06-06-2026-swiss-moto-cossonay
URL:https://swissmx.app/de/calendar/06-06-2026-swiss-moto-cossonay
STATUS:CONFIRMED
END:VEVENT
BEGIN:VEVENT
UID:race-181@swissmx.app
DTSTAMP:20260424T163953Z
SUMMARY:Cossonay
DTSTART;VALUE=DATE:20260613
DTEND;VALUE=DATE:20260614
LOCATION:lachauxcossonay
DESCRIPTION:Meisterschaft: Swiss Moto\\nSeite: https://swissmx.app/de/calendar/13-06-2026-swiss-moto-cossonay
URL:https://swissmx.app/de/calendar/13-06-2026-swiss-moto-cossonay
STATUS:CONFIRMED
END:VEVENT
BEGIN:VEVENT
UID:race-175@swissmx.app
DTSTAMP:20260424T163953Z
SUMMARY:Le Locle
DTSTART;VALUE=DATE:20260628
DTEND;VALUE=DATE:20260629
LOCATION:lelocle
DESCRIPTION:Meisterschaft: Swiss Moto\\nSeite: https://swissmx.app/de/calendar/28-06-2026-swiss-moto-le-locle
URL:https://swissmx.app/de/calendar/28-06-2026-swiss-moto-le-locle
STATUS:CONFIRMED
END:VEVENT
BEGIN:VEVENT
UID:race-182@swissmx.app
DTSTAMP:20260424T163953Z
SUMMARY:Ederswiler
DTSTART;VALUE=DATE:20260704
DTEND;VALUE=DATE:20260705
LOCATION:ederswiler
DESCRIPTION:Meisterschaft: Swiss Moto\\nSeite: https://swissmx.app/de/calendar/04-07-2026-swiss-moto-ederswiler
URL:https://swissmx.app/de/calendar/04-07-2026-swiss-moto-ederswiler
STATUS:CONFIRMED
END:VEVENT
BEGIN:VEVENT
UID:race-183@swissmx.app
DTSTAMP:20260424T163953Z
SUMMARY:Ederswiler
DTSTART;VALUE=DATE:20260705
DTEND;VALUE=DATE:20260706
LOCATION:ederswiler
DESCRIPTION:Meisterschaft: Swiss Moto\\nSeite: https://swissmx.app/de/calendar/05-07-2026-swiss-moto-ederswiler
URL:https://swissmx.app/de/calendar/05-07-2026-swiss-moto-ederswiler
STATUS:CONFIRMED
END:VEVENT
BEGIN:VEVENT
UID:race-146@swissmx.app
DTSTAMP:20260424T163953Z
SUMMARY:Broc (FR)
DTSTART;VALUE=DATE:20260712
DTEND;VALUE=DATE:20260713
LOCATION:brocfr
DESCRIPTION:Meisterschaft: Swiss Moto\\nSeite: https://swissmx.app/de/calendar/12-07-2026-swiss-moto-broc-fr
URL:https://swissmx.app/de/calendar/12-07-2026-swiss-moto-broc-fr
STATUS:CONFIRMED
END:VEVENT
BEGIN:VEVENT
UID:race-184@swissmx.app
DTSTAMP:20260424T163953Z
SUMMARY:MX Broc
DTSTART;VALUE=DATE:20260712
DTEND;VALUE=DATE:20260713
LOCATION:brocfr
DESCRIPTION:Meisterschaft: Swiss Moto\\nSeite: https://swissmx.app/de/calendar/12-07-2026-swiss-moto-mx-broc
URL:https://swissmx.app/de/calendar/12-07-2026-swiss-moto-mx-broc
STATUS:CONFIRMED
END:VEVENT
BEGIN:VEVENT
UID:race-185@swissmx.app
DTSTAMP:20260424T163953Z
SUMMARY:Chevroux
DTSTART;VALUE=DATE:20260725
DTEND;VALUE=DATE:20260726
LOCATION:chevrouxvd
DESCRIPTION:Meisterschaft: Swiss Moto\\nSeite: https://swissmx.app/de/calendar/25-07-2026-swiss-moto-chevroux
URL:https://swissmx.app/de/calendar/25-07-2026-swiss-moto-chevroux
STATUS:CONFIRMED
END:VEVENT
BEGIN:VEVENT
UID:race-177@swissmx.app
DTSTAMP:20260424T163953Z
SUMMARY:Bärfischenhaus
DTSTART;VALUE=DATE:20260808
DTEND;VALUE=DATE:20260809
LOCATION:barfischenhausbe
DESCRIPTION:Meisterschaft: Swiss Moto\\nSeite: https://swissmx.app/de/calendar/08-08-2026-swiss-moto-barfischenhaus
URL:https://swissmx.app/de/calendar/08-08-2026-swiss-moto-barfischenhaus
STATUS:CONFIRMED
END:VEVENT
BEGIN:VEVENT
UID:race-186@swissmx.app
DTSTAMP:20260424T163953Z
SUMMARY:Bärfischenhaus
DTSTART;VALUE=DATE:20260809
DTEND;VALUE=DATE:20260810
LOCATION:barfischenhausbe
DESCRIPTION:Meisterschaft: Swiss Moto\\nSeite: https://swissmx.app/de/calendar/09-08-2026-swiss-moto-barfischenhaus
URL:https://swissmx.app/de/calendar/09-08-2026-swiss-moto-barfischenhaus
STATUS:CONFIRMED
END:VEVENT
BEGIN:VEVENT
UID:race-147@swissmx.app
DTSTAMP:20260424T163953Z
SUMMARY:Linden (BE)
DTSTART;VALUE=DATE:20260816
DTEND;VALUE=DATE:20260817
LOCATION:lindenbe
DESCRIPTION:Meisterschaft: Swiss Moto\\nSeite: https://swissmx.app/de/calendar/16-08-2026-swiss-moto-linden-be
URL:https://swissmx.app/de/calendar/16-08-2026-swiss-moto-linden-be
STATUS:CONFIRMED
END:VEVENT
BEGIN:VEVENT
UID:race-148@swissmx.app
DTSTAMP:20260424T163953Z
SUMMARY:Roggenburg (BL)
DTSTART;VALUE=DATE:20260830
DTEND;VALUE=DATE:20260831
LOCATION:roggenburg
DESCRIPTION:Meisterschaft: Swiss Moto\\nSeite: https://swissmx.app/de/calendar/30-08-2026-swiss-moto-roggenburg-bl
URL:https://swissmx.app/de/calendar/30-08-2026-swiss-moto-roggenburg-bl
STATUS:CONFIRMED
END:VEVENT
BEGIN:VEVENT
UID:race-191@swissmx.app
DTSTAMP:20260424T163953Z
SUMMARY:Ménières
DTSTART;VALUE=DATE:20260905
DTEND;VALUE=DATE:20260906
LOCATION:menieres
DESCRIPTION:Meisterschaft: Swiss Moto\\nSeite: https://swissmx.app/de/calendar/05-09-2026-swiss-moto-menieres
URL:https://swissmx.app/de/calendar/05-09-2026-swiss-moto-menieres
STATUS:CONFIRMED
END:VEVENT
BEGIN:VEVENT
UID:race-188@swissmx.app
DTSTAMP:20260424T163953Z
SUMMARY:Lugnorre
DTSTART;VALUE=DATE:20260906
DTEND;VALUE=DATE:20260907
LOCATION:lugnorre
DESCRIPTION:Meisterschaft: Swiss Moto\\nSeite: https://swissmx.app/de/calendar/06-09-2026-swiss-moto-lugnorre
URL:https://swissmx.app/de/calendar/06-09-2026-swiss-moto-lugnorre
STATUS:CONFIRMED
END:VEVENT
BEGIN:VEVENT
UID:race-190@swissmx.app
DTSTAMP:20260424T163953Z
SUMMARY:Ménières
DTSTART;VALUE=DATE:20260906
DTEND;VALUE=DATE:20260907
LOCATION:menieres
DESCRIPTION:Meisterschaft: Swiss Moto\\nSeite: https://swissmx.app/de/calendar/06-09-2026-swiss-moto-menieres
URL:https://swissmx.app/de/calendar/06-09-2026-swiss-moto-menieres
STATUS:CONFIRMED
END:VEVENT
END:VCALENDAR
