BEGIN:VCALENDAR
VERSION:2.0
PRODID:-//SwissMX//Calendrier//FR
CALSCALE:GREGORIAN
METHOD:PUBLISH
BEGIN:VEVENT
UID:race-88@swissmx.app
DTSTAMP:20260421T152549Z
SUMMARY:Sézegnin
DTSTART;VALUE=DATE:20250628
DTEND;VALUE=DATE:20250629
LOCATION:Sézegnin
DESCRIPTION:Meisterschaft: AFM\\nSeite: https://swissmx.app/de/calendar/28-06-2025-afm-sezegnin
URL:https://swissmx.app/de/calendar/28-06-2025-afm-sezegnin
STATUS:CONFIRMED
END:VEVENT
END:VCALENDAR
