BEGIN:VCALENDAR
VERSION:2.0
PRODID:-//SwissMX//Calendrier//FR
CALSCALE:GREGORIAN
METHOD:PUBLISH
BEGIN:VEVENT
UID:race-69@swissmx.app
DTSTAMP:20260421T075319Z
SUMMARY:La Sagne - Triple Crown
DTSTART;VALUE=DATE:20250524
DTEND;VALUE=DATE:20250525
LOCATION:La Sagne (NE)
DESCRIPTION:Meisterschaft: Angora\\nSeite: https://swissmx.app/de/calendar/24-05-2025-angora-la-sagne-triple-crown
URL:https://swissmx.app/de/calendar/24-05-2025-angora-la-sagne-triple-crown
STATUS:CONFIRMED
END:VEVENT
END:VCALENDAR
