BEGIN:VCALENDAR
VERSION:2.0
PRODID:-//SwissMX//Calendrier//FR
CALSCALE:GREGORIAN
METHOD:PUBLISH
BEGIN:VEVENT
UID:race-126@swissmx.app
DTSTAMP:20260421T115733Z
SUMMARY:Ehrendingen (AG)
DTSTART;VALUE=DATE:20250921
DTEND;VALUE=DATE:20250922
LOCATION:Oberehrendingen
DESCRIPTION:Meisterschaft: Swiss Moto\\nSeite: https://swissmx.app/de/calendar/21-09-2025-swiss-moto-ehrendingen-ag
URL:https://swissmx.app/de/calendar/21-09-2025-swiss-moto-ehrendingen-ag
STATUS:CONFIRMED
END:VEVENT
END:VCALENDAR
