BEGIN:VCALENDAR
VERSION:2.0
PRODID:-//SwissMX//Calendrier//FR
CALSCALE:GREGORIAN
METHOD:PUBLISH
BEGIN:VEVENT
UID:race-86@swissmx.app
DTSTAMP:20260421T115334Z
SUMMARY:Le Locle
DTSTART;VALUE=DATE:20250621
DTEND;VALUE=DATE:20250622
LOCATION:Le Locle
DESCRIPTION:Meisterschaft: AFM\\nSeite: https://swissmx.app/de/calendar/21-06-2025-afm-le-locle
URL:https://swissmx.app/de/calendar/21-06-2025-afm-le-locle
STATUS:CONFIRMED
END:VEVENT
END:VCALENDAR
