BEGIN:VCALENDAR
VERSION:2.0
PRODID:-//SwissMX//Calendrier//FR
CALSCALE:GREGORIAN
METHOD:PUBLISH
BEGIN:VEVENT
UID:race-125@swissmx.app
DTSTAMP:20260421T115706Z
SUMMARY:Ehrendingen (AG)
DTSTART;VALUE=DATE:20250920
DTEND;VALUE=DATE:20250921
LOCATION:Oberehrendingen
DESCRIPTION:Meisterschaft: Swiss Moto\\nSeite: https://swissmx.app/de/calendar/20-09-2025-swiss-moto-ehrendingen-ag
URL:https://swissmx.app/de/calendar/20-09-2025-swiss-moto-ehrendingen-ag
STATUS:CONFIRMED
END:VEVENT
END:VCALENDAR
