BEGIN:VCALENDAR
VERSION:2.0
PRODID:-//SwissMX//Calendrier//FR
CALSCALE:GREGORIAN
METHOD:PUBLISH
BEGIN:VEVENT
UID:race-120@swissmx.app
DTSTAMP:20260421T081540Z
SUMMARY:Grosswangen (LU)
DTSTART;VALUE=DATE:20250906
DTEND;VALUE=DATE:20250907
LOCATION:Grosswangen
DESCRIPTION:Meisterschaft: Swiss Moto\\nSeite: https://swissmx.app/de/calendar/06-09-2025-swiss-moto-grosswangen-lu
URL:https://swissmx.app/de/calendar/06-09-2025-swiss-moto-grosswangen-lu
STATUS:CONFIRMED
END:VEVENT
END:VCALENDAR
