BEGIN:VCALENDAR
VERSION:2.0
PRODID:-//SwissMX//Calendar//1.0
CALSCALE:GREGORIAN
METHOD:PUBLISH
BEGIN:VEVENT
UID:race-153@swissmx.app
DTSTAMP:20260420T074456Z
SUMMARY:Epautheyres
DTSTART;VALUE=DATE:20260509
DTEND;VALUE=DATE:20260510
LOCATION:epautheyres
DESCRIPTION:Championnat: Angora\\nPage: https://swissmx.app/calendar/09-05-2026-angora-epautheyres
URL:https://swissmx.app/calendar/09-05-2026-angora-epautheyres
STATUS:CONFIRMED
END:VEVENT
BEGIN:VEVENT
UID:race-154@swissmx.app
DTSTAMP:20260420T074456Z
SUMMARY:La Sagne - Triple Crown
DTSTART;VALUE=DATE:20260516
DTEND;VALUE=DATE:20260517
LOCATION:lasagnene
DESCRIPTION:Championnat: Angora\\nPage: https://swissmx.app/calendar/16-05-2026-angora-la-sagne-triple-crown
URL:https://swissmx.app/calendar/16-05-2026-angora-la-sagne-triple-crown
STATUS:CONFIRMED
END:VEVENT
BEGIN:VEVENT
UID:race-194@swissmx.app
DTSTAMP:20260420T074456Z
SUMMARY:La Chaux (près Cossonay)
DTSTART;VALUE=DATE:20260606
DTEND;VALUE=DATE:20260607
LOCATION:lachauxcossonay
DESCRIPTION:Championnat: Angora\\nPage: https://swissmx.app/calendar/06-06-2026-angora-la-chaux-pres-cossonay
URL:https://swissmx.app/calendar/06-06-2026-angora-la-chaux-pres-cossonay
STATUS:CONFIRMED
END:VEVENT
BEGIN:VEVENT
UID:race-155@swissmx.app
DTSTAMP:20260420T074456Z
SUMMARY:La Chaux (près Cossonay)
DTSTART;VALUE=DATE:20260613
DTEND;VALUE=DATE:20260614
LOCATION:lachauxcossonay
DESCRIPTION:Championnat: Angora\\nPage: https://swissmx.app/calendar/13-06-2026-angora-la-chaux-pres-cossonay
URL:https://swissmx.app/calendar/13-06-2026-angora-la-chaux-pres-cossonay
STATUS:CONFIRMED
END:VEVENT
BEGIN:VEVENT
UID:race-156@swissmx.app
DTSTAMP:20260420T074456Z
SUMMARY:Chevroux
DTSTART;VALUE=DATE:20260725
DTEND;VALUE=DATE:20260726
LOCATION:chevrouxvd
DESCRIPTION:Championnat: Angora\\nPage: https://swissmx.app/calendar/25-07-2026-angora-chevroux
URL:https://swissmx.app/calendar/25-07-2026-angora-chevroux
STATUS:CONFIRMED
END:VEVENT
BEGIN:VEVENT
UID:race-157@swissmx.app
DTSTAMP:20260420T074456Z
SUMMARY:Cronay
DTSTART;VALUE=DATE:20260801
DTEND;VALUE=DATE:20260802
LOCATION:cronay
DESCRIPTION:Championnat: Angora\\nPage: https://swissmx.app/calendar/01-08-2026-angora-cronay
URL:https://swissmx.app/calendar/01-08-2026-angora-cronay
STATUS:CONFIRMED
END:VEVENT
BEGIN:VEVENT
UID:race-158@swissmx.app
DTSTAMP:20260420T074456Z
SUMMARY:Suchy - Triple Crown
DTSTART;VALUE=DATE:20260808
DTEND;VALUE=DATE:20260809
LOCATION:suchy
DESCRIPTION:Championnat: Angora\\nPage: https://swissmx.app/calendar/08-08-2026-angora-suchy-triple-crown
URL:https://swissmx.app/calendar/08-08-2026-angora-suchy-triple-crown
STATUS:CONFIRMED
END:VEVENT
BEGIN:VEVENT
UID:race-159@swissmx.app
DTSTAMP:20260420T074456Z
SUMMARY:Trey
DTSTART;VALUE=DATE:20260815
DTEND;VALUE=DATE:20260816
LOCATION:trey
DESCRIPTION:Championnat: Angora\\nPage: https://swissmx.app/calendar/15-08-2026-angora-trey
URL:https://swissmx.app/calendar/15-08-2026-angora-trey
STATUS:CONFIRMED
END:VEVENT
BEGIN:VEVENT
UID:race-160@swissmx.app
DTSTAMP:20260420T074456Z
SUMMARY:Villars-le-Comte - Triple Crown
DTSTART;VALUE=DATE:20260822
DTEND;VALUE=DATE:20260823
LOCATION:villars-le-comte
DESCRIPTION:Championnat: Angora\\nPage: https://swissmx.app/calendar/22-08-2026-angora-villars-le-comte-triple-crown
URL:https://swissmx.app/calendar/22-08-2026-angora-villars-le-comte-triple-crown
STATUS:CONFIRMED
END:VEVENT
BEGIN:VEVENT
UID:race-161@swissmx.app
DTSTAMP:20260420T074456Z
SUMMARY:Ménières
DTSTART;VALUE=DATE:20260905
DTEND;VALUE=DATE:20260906
LOCATION:menieres
DESCRIPTION:Championnat: Angora\\nPage: https://swissmx.app/calendar/05-09-2026-angora-menieres
URL:https://swissmx.app/calendar/05-09-2026-angora-menieres
STATUS:CONFIRMED
END:VEVENT
BEGIN:VEVENT
UID:race-162@swissmx.app
DTSTAMP:20260420T074456Z
SUMMARY:Béroche
DTSTART;VALUE=DATE:20260912
DTEND;VALUE=DATE:20260913
LOCATION:gorgier
DESCRIPTION:Championnat: Angora\\nPage: https://swissmx.app/calendar/12-09-2026-angora-beroche
URL:https://swissmx.app/calendar/12-09-2026-angora-beroche
STATUS:CONFIRMED
END:VEVENT
BEGIN:VEVENT
UID:race-163@swissmx.app
DTSTAMP:20260420T074456Z
SUMMARY:Donneloye
DTSTART;VALUE=DATE:20260926
DTEND;VALUE=DATE:20260927
LOCATION:donneloye
DESCRIPTION:Championnat: Angora\\nPage: https://swissmx.app/calendar/26-09-2026-angora-donneloye
URL:https://swissmx.app/calendar/26-09-2026-angora-donneloye
STATUS:CONFIRMED
END:VEVENT
BEGIN:VEVENT
UID:race-164@swissmx.app
DTSTAMP:20260420T074456Z
SUMMARY:Combremont (Nations)
DTSTART;VALUE=DATE:20261010
DTEND;VALUE=DATE:20261011
LOCATION:combremont-le-petit
DESCRIPTION:Championnat: Angora\\nPage: https://swissmx.app/calendar/10-10-2026-angora-combremont-nations
URL:https://swissmx.app/calendar/10-10-2026-angora-combremont-nations
STATUS:CONFIRMED
END:VEVENT
END:VCALENDAR
