BEGIN:VCALENDAR
VERSION:2.0
PRODID:-//SwissMX//Calendrier//FR
CALSCALE:GREGORIAN
METHOD:PUBLISH
BEGIN:VEVENT
UID:race-101@swissmx.app
DTSTAMP:20260421T063223Z
SUMMARY:Trachslau (SZ)
DTSTART;VALUE=DATE:20250622
DTEND;VALUE=DATE:20250623
LOCATION:Trachslau
DESCRIPTION:Championnat: Swiss Moto\\nPage: https://swissmx.app/calendar/22-06-2025-swiss-moto-trachslau-sz
URL:https://swissmx.app/calendar/22-06-2025-swiss-moto-trachslau-sz
STATUS:CONFIRMED
END:VEVENT
END:VCALENDAR
