BEGIN:VCALENDAR
VERSION:2.0
PRODID:-//SwissMX//Calendrier//FR
CALSCALE:GREGORIAN
METHOD:PUBLISH
BEGIN:VEVENT
UID:race-50@swissmx.app
DTSTAMP:20260421T062628Z
SUMMARY:Belmont-sur-Yverdon II
DTSTART;VALUE=DATE:20250322
DTEND;VALUE=DATE:20250323
LOCATION:Belmont-sur-Yverdon
DESCRIPTION:Championnat: Angora\\nPage: https://swissmx.app/calendar/22-03-2025-angora-belmont-sur-yverdon-ii
URL:https://swissmx.app/calendar/22-03-2025-angora-belmont-sur-yverdon-ii
STATUS:CONFIRMED
END:VEVENT
END:VCALENDAR
