BEGIN:VCALENDAR
VERSION:2.0
PRODID:-//SwissMX//Calendrier//FR
CALSCALE:GREGORIAN
METHOD:PUBLISH
BEGIN:VEVENT
UID:race-78@swissmx.app
DTSTAMP:20260421T083715Z
SUMMARY:ANNULÉ - Suchy - Triple Crown
DTSTART;VALUE=DATE:20250809
DTEND;VALUE=DATE:20250810
LOCATION:Suchy
DESCRIPTION:Championnat: Angora\\nPage: https://swissmx.app/calendar/09-08-2025-angora-suchy-triple-crown
URL:https://swissmx.app/calendar/09-08-2025-angora-suchy-triple-crown
STATUS:CANCELLED
END:VEVENT
END:VCALENDAR
