BEGIN:VCALENDAR
VERSION:2.0
PRODID:-//SwissMX//Calendrier//FR
CALSCALE:GREGORIAN
METHOD:PUBLISH
BEGIN:VEVENT
UID:race-71@swissmx.app
DTSTAMP:20260421T084352Z
SUMMARY:Sézegnin 2
DTSTART;VALUE=DATE:20250308
DTEND;VALUE=DATE:20250309
LOCATION:Sézegnin
DESCRIPTION:Championnat: Genevois\\nPage: https://swissmx.app/calendar/08-03-2025-genevois-sezegnin-2
URL:https://swissmx.app/calendar/08-03-2025-genevois-sezegnin-2
STATUS:CONFIRMED
END:VEVENT
END:VCALENDAR
