BEGIN:VCALENDAR
VERSION:2.0
PRODID:-//SwissMX//Calendrier//FR
CALSCALE:GREGORIAN
METHOD:PUBLISH
BEGIN:VEVENT
UID:race-63@swissmx.app
DTSTAMP:20260421T080120Z
SUMMARY:Schlatt (ZH)
DTSTART;VALUE=DATE:20250503
DTEND;VALUE=DATE:20250504
LOCATION:Schlatt bei Winterthur
DESCRIPTION:Championnat: Swiss Moto\\nPage: https://swissmx.app/calendar/03-05-2025-swiss-moto-schlatt-zh
URL:https://swissmx.app/calendar/03-05-2025-swiss-moto-schlatt-zh
STATUS:CONFIRMED
END:VEVENT
END:VCALENDAR
