BEGIN:VCALENDAR
VERSION:2.0
PRODID:-//SwissMX//Calendrier//FR
CALSCALE:GREGORIAN
METHOD:PUBLISH
BEGIN:VEVENT
UID:race-73@swissmx.app
DTSTAMP:20260421T133114Z
SUMMARY:Sézegnin 4
DTSTART;VALUE=DATE:20251004
DTEND;VALUE=DATE:20251005
LOCATION:Sézegnin
DESCRIPTION:Championship: Genevois\\nPage: http://swissmx.app/en/calendar/04-10-2025-genevois-sezegnin-4
URL:http://swissmx.app/en/calendar/04-10-2025-genevois-sezegnin-4
STATUS:CONFIRMED
END:VEVENT
END:VCALENDAR
