BEGIN:VCALENDAR
VERSION:2.0
PRODID:-//SwissMX//Calendar//1.0
CALSCALE:GREGORIAN
METHOD:PUBLISH
BEGIN:VEVENT
UID:race-192@swissmx.app
DTSTAMP:20260421T192625Z
SUMMARY:MX Romont
DTSTART;VALUE=DATE:20260620
DTEND;VALUE=DATE:20260621
LOCATION:belfaux
DESCRIPTION:Meisterschaft: AFM\\nSeite: http://swissmx.app/de/calendar/19-09-2026-afm-mx-romont
URL:http://swissmx.app/de/calendar/19-09-2026-afm-mx-romont
STATUS:CONFIRMED
END:VEVENT
BEGIN:VEVENT
UID:race-193@swissmx.app
DTSTAMP:20260421T192625Z
SUMMARY:MX Romont
DTSTART;VALUE=DATE:20260621
DTEND;VALUE=DATE:20260622
LOCATION:belfaux
DESCRIPTION:Meisterschaft: AFM\\nSeite: http://swissmx.app/de/calendar/20-09-2026-afm-mx-romont
URL:http://swissmx.app/de/calendar/20-09-2026-afm-mx-romont
STATUS:CONFIRMED
END:VEVENT
BEGIN:VEVENT
UID:race-173@swissmx.app
DTSTAMP:20260421T192625Z
SUMMARY:Le Locle
DTSTART;VALUE=DATE:20260627
DTEND;VALUE=DATE:20260628
LOCATION:lelocle
DESCRIPTION:Meisterschaft: AFM\\nSeite: http://swissmx.app/de/calendar/27-06-2026-afm-le-locle
URL:http://swissmx.app/de/calendar/27-06-2026-afm-le-locle
STATUS:CONFIRMED
END:VEVENT
BEGIN:VEVENT
UID:race-174@swissmx.app
DTSTAMP:20260421T192625Z
SUMMARY:Le Locle
DTSTART;VALUE=DATE:20260628
DTEND;VALUE=DATE:20260629
LOCATION:lelocle
DESCRIPTION:Meisterschaft: AFM\\nSeite: http://swissmx.app/de/calendar/28-06-2026-afm-le-locle
URL:http://swissmx.app/de/calendar/28-06-2026-afm-le-locle
STATUS:CONFIRMED
END:VEVENT
BEGIN:VEVENT
UID:race-176@swissmx.app
DTSTAMP:20260421T192625Z
SUMMARY:Bärfischenhaus
DTSTART;VALUE=DATE:20260808
DTEND;VALUE=DATE:20260809
LOCATION:barfischenhausbe
DESCRIPTION:Meisterschaft: AFM\\nSeite: http://swissmx.app/de/calendar/08-08-2026-afm-barfischenhaus
URL:http://swissmx.app/de/calendar/08-08-2026-afm-barfischenhaus
STATUS:CONFIRMED
END:VEVENT
BEGIN:VEVENT
UID:race-187@swissmx.app
DTSTAMP:20260421T192625Z
SUMMARY:Lugnorre
DTSTART;VALUE=DATE:20260905
DTEND;VALUE=DATE:20260906
LOCATION:lugnorre
DESCRIPTION:Meisterschaft: AFM\\nSeite: http://swissmx.app/de/calendar/05-09-2026-afm-lugnorre
URL:http://swissmx.app/de/calendar/05-09-2026-afm-lugnorre
STATUS:CONFIRMED
END:VEVENT
BEGIN:VEVENT
UID:race-189@swissmx.app
DTSTAMP:20260421T192625Z
SUMMARY:MX Menieres
DTSTART;VALUE=DATE:20260906
DTEND;VALUE=DATE:20260907
LOCATION:menieres
DESCRIPTION:Meisterschaft: AFM\\nSeite: http://swissmx.app/de/calendar/05-09-2026-afm-mx-menieres
URL:http://swissmx.app/de/calendar/05-09-2026-afm-mx-menieres
STATUS:CONFIRMED
END:VEVENT
END:VCALENDAR
